BEGIN:VCALENDAR
VERSION:2.0
PRODID:-//Optimum Results - ECPv5.16.2//NONSGML v1.0//EN
CALSCALE:GREGORIAN
METHOD:PUBLISH
X-WR-CALNAME:Optimum Results
X-ORIGINAL-URL:https://optimumresults.ie
X-WR-CALDESC:Events for Optimum Results
BEGIN:VTIMEZONE
TZID:UTC
BEGIN:STANDARD
TZOFFSETFROM:+0000
TZOFFSETTO:+0000
TZNAME:UTC
DTSTART:20210101T000000
END:STANDARD
END:VTIMEZONE
BEGIN:VEVENT
DTSTART;TZID=UTC:20211126T103000
DTEND;TZID=UTC:20211126T113000
DTSTAMP:20260421T044209
CREATED:20210810T134927Z
LAST-MODIFIED:20211005T154115Z
UID:4193-1637922600-1637926200@optimumresults.ie
SUMMARY:2022 Skills Training Overview  Free Webinar
DESCRIPTION:Optimum Results bring to you an overview of our annual Training Needs Analysis report. We showcase the results of our extensive industry report into what are the current skills gaps per industry and what training areas should be the focus for 2022. \nAttend our 60 minute FREE session to gain access to this insightful report and stats.
URL:https://optimumresults.ie/event/2022-skills-training-overview-free-webinar/
LOCATION:Zoom
ATTACH;FMTTYPE=image/jpeg:https://optimumresults.ie/wp-content/uploads/2021/07/Presenting-Financial-Management-Reporting.jpg
ORGANIZER;CN="Optimum%20Results":MAILTO:info@optimumresults.ie
END:VEVENT
END:VCALENDAR