BEGIN:VCALENDAR
VERSION:2.0
PRODID:-//Optimum Results - ECPv5.16.2//NONSGML v1.0//EN
CALSCALE:GREGORIAN
METHOD:PUBLISH
X-WR-CALNAME:Optimum Results
X-ORIGINAL-URL:https://optimumresults.ie
X-WR-CALDESC:Events for Optimum Results
BEGIN:VTIMEZONE
TZID:UTC
BEGIN:STANDARD
TZOFFSETFROM:+0000
TZOFFSETTO:+0000
TZNAME:UTC
DTSTART:20220101T000000
END:STANDARD
END:VTIMEZONE
BEGIN:VEVENT
DTSTART;TZID=UTC:20220119T093000
DTEND;TZID=UTC:20220119T130000
DTSTAMP:20260423T105806
CREATED:20211202T110754Z
LAST-MODIFIED:20211202T111630Z
UID:5377-1642584600-1642597200@optimumresults.ie
SUMMARY:Essentials of Financial Awareness and Management
DESCRIPTION:The participants will be provided with the framework to understand the essentials of financial awareness and management. \nThe course is delivered over one three hour session. \nOverview\nThis long-established training programme is designed to provide non-financial managers with a basic understanding of the critical issues. \nWho Should Attend?\nBusiness Owners and Managers of any size in any sector who wish to develop Financial Awareness to optimise the performance of their business over the next two years. \nLearning Outcomes\nParticipants will gain an understanding in dealing with Business Accounts\, Budgetary and Financial Management. Participants will also gain the ability to develop and understand your businesses Profit & Growth Plan. \nDelivery Method\nOnline Interactive Workshop delivered by our experienced Trainer via Zoom. \nCourse Duration\nHalf day workshop\, 3 X 1 hour modules (with 2 X 10 minute breaks). \nSummary of Course Content\n\nIntroduction\, Programme Overview and Objectives\nThe Language of Business Finance\nHow Funds Flow through your business\nUnderstanding Financial Reports\nKey Financial Performance Indicators\nAddressing the Implications of COVID Payments or Grants\nReview Costings and Pricing\nDeveloping your Financial Dashboard Summary and a Profit & Growth Plan\n\nParticipants will receive the training materials and financial planning templates in advance and will be invited to have their Business Accounts with them during the training programme. Additional training and or mentoring may be availed of subsequently to continue skills development in this essential aspect of business management. \nFees & Registration\nThe cost of this online open course is €140 per business +VAT. \n(This covers attendance from up to 2 participants from each business). \n 
URL:https://optimumresults.ie/event/essentials-of-financial-awareness-and-management-4/
LOCATION:Zoom
ATTACH;FMTTYPE=image/jpeg:https://optimumresults.ie/wp-content/uploads/2021/06/Strategic-Financial-Performance-Review-and-Planning.jpg
ORGANIZER;CN="Optimum%20Results":MAILTO:info@optimumresults.ie
END:VEVENT
END:VCALENDAR