BEGIN:VCALENDAR
VERSION:2.0
PRODID:-//Optimum Results - ECPv5.16.2//NONSGML v1.0//EN
CALSCALE:GREGORIAN
METHOD:PUBLISH
X-WR-CALNAME:Optimum Results
X-ORIGINAL-URL:https://optimumresults.ie
X-WR-CALDESC:Events for Optimum Results
BEGIN:VTIMEZONE
TZID:UTC
BEGIN:STANDARD
TZOFFSETFROM:+0000
TZOFFSETTO:+0000
TZNAME:UTC
DTSTART:20210101T000000
END:STANDARD
END:VTIMEZONE
BEGIN:VEVENT
DTSTART;TZID=UTC:20211203T100000
DTEND;TZID=UTC:20211203T104500
DTSTAMP:20260421T072903
CREATED:20210810T135142Z
LAST-MODIFIED:20211005T153836Z
UID:4195-1638525600-1638528300@optimumresults.ie
SUMMARY:Ignite Line Manager Development  Free Taster Webinar
DESCRIPTION:The Supervisor and Line Management Skills Development Programme (IGNITE) assists participants in establishing their role\, the skills required and attributes necessary to guarantee a successful career. \nAttend our 45 minute FREE taster session to understand exactly how this programme is right for you.
URL:https://optimumresults.ie/event/ignite-line-manager-development-free-taster-webinar/
LOCATION:Zoom
ATTACH;FMTTYPE=image/jpeg:https://optimumresults.ie/wp-content/uploads/2021/06/Strategic-Marketing-Sales-and-Customer-Care-1.jpg
ORGANIZER;CN="Optimum%20Results":MAILTO:info@optimumresults.ie
END:VEVENT
END:VCALENDAR